BEGIN:VCALENDAR
VERSION:2.0
PRODID:-//Opua Cruising Club - ECPv6.15.20//NONSGML v1.0//EN
CALSCALE:GREGORIAN
METHOD:PUBLISH
X-WR-CALNAME:Opua Cruising Club
X-ORIGINAL-URL:https://opuacruisingclub.co.nz
X-WR-CALDESC:Events for Opua Cruising Club
REFRESH-INTERVAL;VALUE=DURATION:PT1H
X-Robots-Tag:noindex
X-PUBLISHED-TTL:PT1H
BEGIN:VTIMEZONE
TZID:UTC
BEGIN:STANDARD
TZOFFSETFROM:+0000
TZOFFSETTO:+0000
TZNAME:UTC
DTSTART:20230101T000000
END:STANDARD
END:VTIMEZONE
BEGIN:VEVENT
DTSTART;TZID=UTC:20240602T130000
DTEND;TZID=UTC:20240602T163000
DTSTAMP:20260424T065131
CREATED:20240118T082604Z
LAST-MODIFIED:20240118T082604Z
UID:10000947-1717333200-1717345800@opuacruisingclub.co.nz
SUMMARY:NZ Yacht Services - Winter Series Race 2 - 1pm
DESCRIPTION:
URL:https://opuacruisingclub.co.nz/event/nz-yacht-services-winter-series-race-2-1pm/
END:VEVENT
BEGIN:VEVENT
DTSTART;VALUE=DATE:20240605
DTEND;VALUE=DATE:20240606
DTSTAMP:20260424T065131
CREATED:20240118T081603Z
LAST-MODIFIED:20240118T081603Z
UID:10000906-1717545600-1717631999@opuacruisingclub.co.nz
SUMMARY:Darts
DESCRIPTION:
URL:https://opuacruisingclub.co.nz/event/darts-2/2024-06-05/
END:VEVENT
BEGIN:VEVENT
DTSTART;TZID=UTC:20240610T180000
DTEND;TZID=UTC:20240610T193000
DTSTAMP:20260424T065131
CREATED:20240118T082636Z
LAST-MODIFIED:20240118T082636Z
UID:10000948-1718042400-1718047800@opuacruisingclub.co.nz
SUMMARY:Committee Meeting 6pm
DESCRIPTION:
URL:https://opuacruisingclub.co.nz/event/committee-meeting-6pm-4/
END:VEVENT
BEGIN:VEVENT
DTSTART;VALUE=DATE:20240612
DTEND;VALUE=DATE:20240613
DTSTAMP:20260424T065131
CREATED:20240118T081603Z
LAST-MODIFIED:20240118T081603Z
UID:10000907-1718150400-1718236799@opuacruisingclub.co.nz
SUMMARY:Darts
DESCRIPTION:
URL:https://opuacruisingclub.co.nz/event/darts-2/2024-06-12/
END:VEVENT
BEGIN:VEVENT
DTSTART;VALUE=DATE:20240613
DTEND;VALUE=DATE:20240614
DTSTAMP:20260424T065131
CREATED:20240118T081748Z
LAST-MODIFIED:20240118T081748Z
UID:10000925-1718236800-1718323199@opuacruisingclub.co.nz
SUMMARY:Bingo
DESCRIPTION:
URL:https://opuacruisingclub.co.nz/event/bingo-8/2024-06-13/
END:VEVENT
BEGIN:VEVENT
DTSTART;VALUE=DATE:20240619
DTEND;VALUE=DATE:20240620
DTSTAMP:20260424T065131
CREATED:20240118T081603Z
LAST-MODIFIED:20240118T081603Z
UID:10000908-1718755200-1718841599@opuacruisingclub.co.nz
SUMMARY:Darts
DESCRIPTION:
URL:https://opuacruisingclub.co.nz/event/darts-2/2024-06-19/
END:VEVENT
BEGIN:VEVENT
DTSTART;VALUE=DATE:20240620
DTEND;VALUE=DATE:20240621
DTSTAMP:20260424T065131
CREATED:20240118T081948Z
LAST-MODIFIED:20240118T081948Z
UID:10000937-1718841600-1718927999@opuacruisingclub.co.nz
SUMMARY:Quiz
DESCRIPTION:
URL:https://opuacruisingclub.co.nz/event/quiz-4/2024-06-20/
END:VEVENT
BEGIN:VEVENT
DTSTART;TZID=UTC:20240622T180000
DTEND;TZID=UTC:20240622T210000
DTSTAMP:20260424T065131
CREATED:20240118T082836Z
LAST-MODIFIED:20240118T082836Z
UID:10000951-1719079200-1719090000@opuacruisingclub.co.nz
SUMMARY:Mid-Winter Dinner Prize Giving
DESCRIPTION:
URL:https://opuacruisingclub.co.nz/event/mid-winter-dinner-prize-giving/
END:VEVENT
BEGIN:VEVENT
DTSTART;TZID=UTC:20240625T190000
DTEND;TZID=UTC:20240625T203000
DTSTAMP:20260424T065131
CREATED:20240530T092810Z
LAST-MODIFIED:20240530T104531Z
UID:10000962-1719342000-1719347400@opuacruisingclub.co.nz
SUMMARY:AGM - 7pm
DESCRIPTION:
URL:https://opuacruisingclub.co.nz/event/agm/
END:VEVENT
BEGIN:VEVENT
DTSTART;VALUE=DATE:20240626
DTEND;VALUE=DATE:20240627
DTSTAMP:20260424T065131
CREATED:20240118T081603Z
LAST-MODIFIED:20240118T081603Z
UID:10000909-1719360000-1719446399@opuacruisingclub.co.nz
SUMMARY:Darts
DESCRIPTION:
URL:https://opuacruisingclub.co.nz/event/darts-2/2024-06-26/
END:VEVENT
BEGIN:VEVENT
DTSTART;VALUE=DATE:20240627
DTEND;VALUE=DATE:20240628
DTSTAMP:20260424T065131
CREATED:20240118T081839Z
LAST-MODIFIED:20240118T081839Z
UID:10000931-1719446400-1719532799@opuacruisingclub.co.nz
SUMMARY:Bingo
DESCRIPTION:
URL:https://opuacruisingclub.co.nz/event/bingo-9/2024-06-27/
END:VEVENT
BEGIN:VEVENT
DTSTART;VALUE=DATE:20240628
DTEND;VALUE=DATE:20240701
DTSTAMP:20260424T065131
CREATED:20240118T082710Z
LAST-MODIFIED:20240118T082710Z
UID:10000949-1719532800-1719791999@opuacruisingclub.co.nz
SUMMARY:Cruising Divison (TBC)
DESCRIPTION:
URL:https://opuacruisingclub.co.nz/event/cruising-divison-tbc-6/
END:VEVENT
END:VCALENDAR