BEGIN:VCALENDAR
VERSION:2.0
PRODID:-//Opua Cruising Club - ECPv6.15.20//NONSGML v1.0//EN
CALSCALE:GREGORIAN
METHOD:PUBLISH
X-ORIGINAL-URL:https://opuacruisingclub.co.nz
X-WR-CALDESC:Events for Opua Cruising Club
REFRESH-INTERVAL;VALUE=DURATION:PT1H
X-Robots-Tag:noindex
X-PUBLISHED-TTL:PT1H
BEGIN:VTIMEZONE
TZID:UTC
BEGIN:STANDARD
TZOFFSETFROM:+0000
TZOFFSETTO:+0000
TZNAME:UTC
DTSTART:20240101T000000
END:STANDARD
END:VTIMEZONE
BEGIN:VEVENT
DTSTART;TZID=UTC:20250704T170000
DTEND;TZID=UTC:20250704T180000
DTSTAMP:20260424T125934
CREATED:20250710T163637Z
LAST-MODIFIED:20250710T163637Z
UID:10001057-1751648400-1751652000@opuacruisingclub.co.nz
SUMMARY:Happy Hour
DESCRIPTION:Happy Hour is now on Friday evenings\, 5 – 6pm
URL:https://opuacruisingclub.co.nz/event/happy-hour/2025-07-04/
END:VEVENT
BEGIN:VEVENT
DTSTART;TZID=UTC:20250704T170000
DTEND;TZID=UTC:20250704T190000
DTSTAMP:20260424T125934
CREATED:20250709T200014Z
LAST-MODIFIED:20250709T202028Z
UID:10001037-1751648400-1751655600@opuacruisingclub.co.nz
SUMMARY:BOI Auto & Marine - Winter Pursuit Series
DESCRIPTION:Race 2
URL:https://opuacruisingclub.co.nz/event/boi-auto-marine-winter-pursuit-series/
END:VEVENT
END:VCALENDAR