BEGIN:VCALENDAR
VERSION:2.0
PRODID:-//Opua Cruising Club - ECPv6.15.20//NONSGML v1.0//EN
CALSCALE:GREGORIAN
METHOD:PUBLISH
X-WR-CALNAME:Opua Cruising Club
X-ORIGINAL-URL:https://opuacruisingclub.co.nz
X-WR-CALDESC:Events for Opua Cruising Club
REFRESH-INTERVAL;VALUE=DURATION:PT1H
X-Robots-Tag:noindex
X-PUBLISHED-TTL:PT1H
BEGIN:VTIMEZONE
TZID:UTC
BEGIN:STANDARD
TZOFFSETFROM:+0000
TZOFFSETTO:+0000
TZNAME:UTC
DTSTART:20230101T000000
END:STANDARD
END:VTIMEZONE
BEGIN:VEVENT
DTSTART;TZID=UTC:20240804T130000
DTEND;TZID=UTC:20240804T163000
DTSTAMP:20260424T090533
CREATED:20240118T083202Z
LAST-MODIFIED:20240118T083202Z
UID:10000955-1722776400-1722789000@opuacruisingclub.co.nz
SUMMARY:NZ Yacht Services – Winter Series Race 4 – 1pm
DESCRIPTION:
URL:https://opuacruisingclub.co.nz/event/nz-yacht-services-winter-series-race-4-1pm/
END:VEVENT
END:VCALENDAR