BEGIN:VCALENDAR
VERSION:2.0
PRODID:-//Opua Cruising Club - ECPv6.15.20//NONSGML v1.0//EN
CALSCALE:GREGORIAN
METHOD:PUBLISH
X-ORIGINAL-URL:https://opuacruisingclub.co.nz
X-WR-CALDESC:Events for Opua Cruising Club
REFRESH-INTERVAL;VALUE=DURATION:PT1H
X-Robots-Tag:noindex
X-PUBLISHED-TTL:PT1H
BEGIN:VTIMEZONE
TZID:UTC
BEGIN:STANDARD
TZOFFSETFROM:+0000
TZOFFSETTO:+0000
TZNAME:UTC
DTSTART:20230101T000000
END:STANDARD
END:VTIMEZONE
BEGIN:VEVENT
DTSTART;TZID=UTC:20240625T190000
DTEND;TZID=UTC:20240625T203000
DTSTAMP:20260424T075516
CREATED:20240530T092810Z
LAST-MODIFIED:20240530T104531Z
UID:10000962-1719342000-1719347400@opuacruisingclub.co.nz
SUMMARY:AGM - 7pm
DESCRIPTION:
URL:https://opuacruisingclub.co.nz/event/agm/
END:VEVENT
END:VCALENDAR