BEGIN:VCALENDAR
VERSION:2.0
PRODID:-//Opua Cruising Club - ECPv6.15.20//NONSGML v1.0//EN
CALSCALE:GREGORIAN
METHOD:PUBLISH
X-WR-CALNAME:Opua Cruising Club
X-ORIGINAL-URL:https://opuacruisingclub.co.nz
X-WR-CALDESC:Events for Opua Cruising Club
REFRESH-INTERVAL;VALUE=DURATION:PT1H
X-Robots-Tag:noindex
X-PUBLISHED-TTL:PT1H
BEGIN:VTIMEZONE
TZID:UTC
BEGIN:STANDARD
TZOFFSETFROM:+0000
TZOFFSETTO:+0000
TZNAME:UTC
DTSTART:20230101T000000
END:STANDARD
END:VTIMEZONE
BEGIN:VEVENT
DTSTART;VALUE=DATE:20240424
DTEND;VALUE=DATE:20240425
DTSTAMP:20260424T053843
CREATED:20240118T081603Z
LAST-MODIFIED:20240118T081603Z
UID:10000900-1713916800-1714003199@opuacruisingclub.co.nz
SUMMARY:Darts
DESCRIPTION:
URL:https://opuacruisingclub.co.nz/event/darts-2/2024-04-24/
END:VEVENT
END:VCALENDAR